BEGIN:VCALENDAR
PRODID:-//Pixl8//Eventfolio//EN
VERSION:2.0
X-WR-TIMEZONE:Europe/London
CALSCALE:GREGORIAN
METHOD:PUBLISH
CLASS:PUBLIC
BEGIN:VTIMEZONE
TZID:Europe/London
LAST-MODIFIED:20260306T231828Z
TZURL:https://www.tzurl.org/zoneinfo-outlook/Europe/London
X-LIC-LOCATION:Europe/London
BEGIN:DAYLIGHT
TZNAME:BST
TZOFFSETFROM:+0000
TZOFFSETTO:+0100
DTSTART:19700329T010000
RRULE:FREQ=YEARLY;BYMONTH=3;BYDAY=-1SU
END:DAYLIGHT
BEGIN:STANDARD
TZNAME:GMT
TZOFFSETFROM:+0100
TZOFFSETTO:+0000
DTSTART:19701025T020000
RRULE:FREQ=YEARLY;BYMONTH=10;BYDAY=-1SU
END:STANDARD
END:VTIMEZONE
BEGIN:VEVENT
DTSTART;TZID=Europe/London:20250707T080000
DTEND;TZID=Europe/London:20250709T134000
DTSTAMP:20260422T082125Z
UID:{E297C11E-324D-422C-8F5A5E15F3D42DEE}
LOCATION:Orlando\, FL
SUMMARY:2nd Global Cell & Gene Therapy Summit
DESCRIPTION:This three-day conference aims to bring together a global audience to discuss and exchange ideas on the origins, development, clinical applications, and translational science of cell and gene therapy.\n
 \n
 Event details: https://www.bioindustry.org/events/our-events/2nd-global-cell-gene-therapy-summit.html
PRIORITY:1
END:VEVENT
END:VCALENDAR