BEGIN:VCALENDAR
PRODID:-//Pixl8//Eventfolio//EN
VERSION:2.0
X-WR-TIMEZONE:Europe/London
CALSCALE:GREGORIAN
METHOD:PUBLISH
CLASS:PUBLIC
BEGIN:VTIMEZONE
TZID:Europe/London
LAST-MODIFIED:20260306T231828Z
TZURL:https://www.tzurl.org/zoneinfo-outlook/Europe/London
X-LIC-LOCATION:Europe/London
BEGIN:DAYLIGHT
TZNAME:BST
TZOFFSETFROM:+0000
TZOFFSETTO:+0100
DTSTART:19700329T010000
RRULE:FREQ=YEARLY;BYMONTH=3;BYDAY=-1SU
END:DAYLIGHT
BEGIN:STANDARD
TZNAME:GMT
TZOFFSETFROM:+0100
TZOFFSETTO:+0000
DTSTART:19701025T020000
RRULE:FREQ=YEARLY;BYMONTH=10;BYDAY=-1SU
END:STANDARD
END:VTIMEZONE
BEGIN:VEVENT
DTSTART;TZID=Europe/London:20260929T090000
DTEND;TZID=Europe/London:20260930T050000
DTSTAMP:20260422T065610Z
UID:{C2AEFFFD-117F-4FBB-B09E8DFA11B71E01}
LOCATION:Radisson Blu Hotel\, London Canary Wharf 5 Fairmont Avenue\, London\, E14 9JB
SUMMARY:5th World Conference on Climate Change & Sustainability
DESCRIPTION:5th World Conference on Climate Change & Sustainability\n
 \n
 Event details: https://www.bioindustry.org/events/our-events/5th-world-conference-on-climate-change-sustainability.html
PRIORITY:1
END:VEVENT
END:VCALENDAR