BEGIN:VCALENDAR
PRODID:-//Pixl8//Eventfolio//EN
VERSION:2.0
X-WR-TIMEZONE:Europe/London
CALSCALE:GREGORIAN
METHOD:PUBLISH
CLASS:PUBLIC
BEGIN:VTIMEZONE
TZID:Europe/London
LAST-MODIFIED:20260306T231828Z
TZURL:https://www.tzurl.org/zoneinfo-outlook/Europe/London
X-LIC-LOCATION:Europe/London
BEGIN:DAYLIGHT
TZNAME:BST
TZOFFSETFROM:+0000
TZOFFSETTO:+0100
DTSTART:19700329T010000
RRULE:FREQ=YEARLY;BYMONTH=3;BYDAY=-1SU
END:DAYLIGHT
BEGIN:STANDARD
TZNAME:GMT
TZOFFSETFROM:+0100
TZOFFSETTO:+0000
DTSTART:19701025T020000
RRULE:FREQ=YEARLY;BYMONTH=10;BYDAY=-1SU
END:STANDARD
END:VTIMEZONE
BEGIN:VEVENT
DTSTART;TZID=Europe/London:20250403T081500
DTEND;TZID=Europe/London:20250403T183000
DTSTAMP:20260423T104346Z
UID:{1BA6655D-E325-4AF8-9E23D028930854DF}
LOCATION:
SUMMARY:Anglo Nordic Life Science Conference XXI
DESCRIPTION:On 3 April, 2025, over 400 delegates from leading and upcoming drug discovery and technology companies from the UK, Nordic and many other European regions, plus investment firms throughout Europe, will get together in London for the 21st Annual Anglonordic Life Science Conference.\n
 \n
 Event details: https://www.bioindustry.org/events/our-events/anglo-nordic-life-science-conference-xxi.html
PRIORITY:1
END:VEVENT
END:VCALENDAR