BEGIN:VCALENDAR
PRODID:-//Pixl8//Eventfolio//EN
VERSION:2.0
X-WR-TIMEZONE:Europe/London
CALSCALE:GREGORIAN
METHOD:PUBLISH
CLASS:PUBLIC
BEGIN:VTIMEZONE
TZID:Europe/London
LAST-MODIFIED:20260306T231828Z
TZURL:https://www.tzurl.org/zoneinfo-outlook/Europe/London
X-LIC-LOCATION:Europe/London
BEGIN:DAYLIGHT
TZNAME:BST
TZOFFSETFROM:+0000
TZOFFSETTO:+0100
DTSTART:19700329T010000
RRULE:FREQ=YEARLY;BYMONTH=3;BYDAY=-1SU
END:DAYLIGHT
BEGIN:STANDARD
TZNAME:GMT
TZOFFSETFROM:+0100
TZOFFSETTO:+0000
DTSTART:19701025T020000
RRULE:FREQ=YEARLY;BYMONTH=10;BYDAY=-1SU
END:STANDARD
END:VTIMEZONE
BEGIN:VEVENT
DTSTART;TZID=Europe/London:20250911T133000
DTEND;TZID=Europe/London:20250911T153000
DTSTAMP:20260419T173825Z
UID:{A5E73D1A-2E5F-4E74-9864EB8C1147A55C}
LOCATION:Liverpool
SUMMARY:Biomedical Catalyst Accelerator 2025 Roadshow - Liverpool
DESCRIPTION:Innovate UK are hosting in-person Biomedical Catalyst Accelerator 2025 Roadshows across the UK for health & life sciences SMEs.\n
 \n
 Event details: https://www.bioindustry.org/events/our-events/biomedical-catalyst-accelerator-2025-roadshow-liverpool.html
PRIORITY:1
END:VEVENT
END:VCALENDAR