BEGIN:VCALENDAR
PRODID:-//Pixl8//Eventfolio//EN
VERSION:2.0
X-WR-TIMEZONE:Europe/London
CALSCALE:GREGORIAN
METHOD:PUBLISH
CLASS:PUBLIC
BEGIN:VTIMEZONE
TZID:Europe/London
LAST-MODIFIED:20260306T231828Z
TZURL:https://www.tzurl.org/zoneinfo-outlook/Europe/London
X-LIC-LOCATION:Europe/London
BEGIN:DAYLIGHT
TZNAME:BST
TZOFFSETFROM:+0000
TZOFFSETTO:+0100
DTSTART:19700329T010000
RRULE:FREQ=YEARLY;BYMONTH=3;BYDAY=-1SU
END:DAYLIGHT
BEGIN:STANDARD
TZNAME:GMT
TZOFFSETFROM:+0100
TZOFFSETTO:+0000
DTSTART:19701025T020000
RRULE:FREQ=YEARLY;BYMONTH=10;BYDAY=-1SU
END:STANDARD
END:VTIMEZONE
BEGIN:VEVENT
DTSTART;TZID=Europe/London:20250113T090000
DTEND;TZID=Europe/London:20250115T170000
DTSTAMP:20260419T160613Z
UID:{192678BC-CA75-4ADB-BC039E7B7F7B4081}
LOCATION:Hilton San Francisco\, Union Square
SUMMARY:Biotech Showcase 2025
DESCRIPTION:A premier investor conference committed to creating a platform for private and micro-mid-cap biotechnology companies, offering them a unique opportunity to showcase their innovations and engage one-to-one with investors and biopharmaceutical executives.\n
 \n
 Event details: https://www.bioindustry.org/events/our-events/biotech-showcase-2025.html
PRIORITY:1
END:VEVENT
END:VCALENDAR