BEGIN:VCALENDAR
PRODID:-//Pixl8//Eventfolio//EN
VERSION:2.0
X-WR-TIMEZONE:Europe/London
CALSCALE:GREGORIAN
METHOD:PUBLISH
CLASS:PUBLIC
BEGIN:VTIMEZONE
TZID:Europe/London
LAST-MODIFIED:20260306T231828Z
TZURL:https://www.tzurl.org/zoneinfo-outlook/Europe/London
X-LIC-LOCATION:Europe/London
BEGIN:DAYLIGHT
TZNAME:BST
TZOFFSETFROM:+0000
TZOFFSETTO:+0100
DTSTART:19700329T010000
RRULE:FREQ=YEARLY;BYMONTH=3;BYDAY=-1SU
END:DAYLIGHT
BEGIN:STANDARD
TZNAME:GMT
TZOFFSETFROM:+0100
TZOFFSETTO:+0000
DTSTART:19701025T020000
RRULE:FREQ=YEARLY;BYMONTH=10;BYDAY=-1SU
END:STANDARD
END:VTIMEZONE
BEGIN:VEVENT
DTSTART;TZID=Europe/London:20250917T110000
DTEND;TZID=Europe/London:20250917T151500
DTSTAMP:20260420T160235Z
UID:{C7FD441B-0675-45B1-B99A86F81E7578B2}
LOCATION:DoubleTree Hotel in Dartford\, UK\, DA2 6QF
SUMMARY:Catalent Presents Micronisation: Boosting API Bioavailability
DESCRIPTION:Join us at this free event as we explore the advantages of micronisation to increase bioavailability!\n
 \n
 Event details: https://www.bioindustry.org/events/our-events/catalent-presents-micronisation-boosting-api-bioavailability.html
PRIORITY:1
END:VEVENT
END:VCALENDAR