BEGIN:VCALENDAR
PRODID:-//Pixl8//Eventfolio//EN
VERSION:2.0
X-WR-TIMEZONE:Europe/London
CALSCALE:GREGORIAN
METHOD:PUBLISH
CLASS:PUBLIC
BEGIN:VTIMEZONE
TZID:Europe/London
LAST-MODIFIED:20260306T231828Z
TZURL:https://www.tzurl.org/zoneinfo-outlook/Europe/London
X-LIC-LOCATION:Europe/London
BEGIN:DAYLIGHT
TZNAME:BST
TZOFFSETFROM:+0000
TZOFFSETTO:+0100
DTSTART:19700329T010000
RRULE:FREQ=YEARLY;BYMONTH=3;BYDAY=-1SU
END:DAYLIGHT
BEGIN:STANDARD
TZNAME:GMT
TZOFFSETFROM:+0100
TZOFFSETTO:+0000
DTSTART:19701025T020000
RRULE:FREQ=YEARLY;BYMONTH=10;BYDAY=-1SU
END:STANDARD
END:VTIMEZONE
BEGIN:VEVENT
DTSTART;TZID=Europe/London:20251203T160000
DTEND;TZID=Europe/London:20251203T183000
DTSTAMP:20260420T130825Z
UID:{44C1125E-4E8E-4F5A-B3CD202853EF0194}
LOCATION:The Chambers Room\, Victoria House\, Bloomsbury Square\, London\, WC1B 4DA
SUMMARY:Cell & Gene Therapy Community Connects
DESCRIPTION:Event details: https://www.bioindustry.org/events/our-events/cell-gene-therapy-community-connects.html
PRIORITY:1
END:VEVENT
END:VCALENDAR