BEGIN:VCALENDAR
PRODID:-//Pixl8//Eventfolio//EN
VERSION:2.0
X-WR-TIMEZONE:Europe/London
CALSCALE:GREGORIAN
METHOD:PUBLISH
CLASS:PUBLIC
BEGIN:VTIMEZONE
TZID:Europe/London
LAST-MODIFIED:20260306T231828Z
TZURL:https://www.tzurl.org/zoneinfo-outlook/Europe/London
X-LIC-LOCATION:Europe/London
BEGIN:DAYLIGHT
TZNAME:BST
TZOFFSETFROM:+0000
TZOFFSETTO:+0100
DTSTART:19700329T010000
RRULE:FREQ=YEARLY;BYMONTH=3;BYDAY=-1SU
END:DAYLIGHT
BEGIN:STANDARD
TZNAME:GMT
TZOFFSETFROM:+0100
TZOFFSETTO:+0000
DTSTART:19701025T020000
RRULE:FREQ=YEARLY;BYMONTH=10;BYDAY=-1SU
END:STANDARD
END:VTIMEZONE
BEGIN:VEVENT
DTSTART;TZID=Europe/London:20240829T120000
DTEND;TZID=Europe/London:20240829T130000
DTSTAMP:20260419T160746Z
UID:{378110F7-3995-4F8D-A5FABE91D1ED9BFC}
LOCATION:Virtual
SUMMARY:CMC Production Process of iPSC-based Cell Therapy
DESCRIPTION:ACROBiosystem has developed a series of CMC production process related products for iPSCs, such as GMP grade Laminin 521, DLL4, VCAM1, FGF8b, SCF, FLT3L, TPO, helping customers accelerate the production process and fully supporting the development process based on iPSC therapy.\n
 \n
 Event details: https://www.bioindustry.org/events/our-events/cmc-production-process-of-ipsc-based-cell-therapy.html
PRIORITY:1
END:VEVENT
END:VCALENDAR