BEGIN:VCALENDAR
PRODID:-//Pixl8//Eventfolio//EN
VERSION:2.0
X-WR-TIMEZONE:Europe/London
CALSCALE:GREGORIAN
METHOD:PUBLISH
CLASS:PUBLIC
BEGIN:VTIMEZONE
TZID:Europe/London
LAST-MODIFIED:20260306T231828Z
TZURL:https://www.tzurl.org/zoneinfo-outlook/Europe/London
X-LIC-LOCATION:Europe/London
BEGIN:DAYLIGHT
TZNAME:BST
TZOFFSETFROM:+0000
TZOFFSETTO:+0100
DTSTART:19700329T010000
RRULE:FREQ=YEARLY;BYMONTH=3;BYDAY=-1SU
END:DAYLIGHT
BEGIN:STANDARD
TZNAME:GMT
TZOFFSETFROM:+0100
TZOFFSETTO:+0000
DTSTART:19701025T020000
RRULE:FREQ=YEARLY;BYMONTH=10;BYDAY=-1SU
END:STANDARD
END:VTIMEZONE
BEGIN:VEVENT
DTSTART;TZID=Europe/London:20260318T090000
DTEND;TZID=Europe/London:20260318T160000
DTSTAMP:20260422T082231Z
UID:{FA3A85CD-819D-4545-A3D680162581E735}
LOCATION:Delta Hotels by Marriott Worsley Park\, Manchester\, M28 2QT
SUMMARY:DeltaV Technology Roadshow
DESCRIPTION:Join us as we explore the latest advancements and breakthrough technologies shaping the future of automation and industrial software.\n
 \n
 Event details: https://www.bioindustry.org/events/our-events/deltav-technology-roadshow.html
PRIORITY:1
END:VEVENT
END:VCALENDAR