BEGIN:VCALENDAR
PRODID:-//Pixl8//Eventfolio//EN
VERSION:2.0
X-WR-TIMEZONE:Europe/London
CALSCALE:GREGORIAN
METHOD:PUBLISH
CLASS:PUBLIC
BEGIN:VTIMEZONE
TZID:Europe/London
LAST-MODIFIED:20260306T231828Z
TZURL:https://www.tzurl.org/zoneinfo-outlook/Europe/London
X-LIC-LOCATION:Europe/London
BEGIN:DAYLIGHT
TZNAME:BST
TZOFFSETFROM:+0000
TZOFFSETTO:+0100
DTSTART:19700329T010000
RRULE:FREQ=YEARLY;BYMONTH=3;BYDAY=-1SU
END:DAYLIGHT
BEGIN:STANDARD
TZNAME:GMT
TZOFFSETFROM:+0100
TZOFFSETTO:+0000
DTSTART:19701025T020000
RRULE:FREQ=YEARLY;BYMONTH=10;BYDAY=-1SU
END:STANDARD
END:VTIMEZONE
BEGIN:VEVENT
DTSTART;TZID=Europe/London:20260309T081500
DTEND;TZID=Europe/London:20260310T164000
DTSTAMP:20260422T081333Z
UID:{2E66984E-9C55-4711-931093FFA042C82D}
LOCATION:Hinxton Hall Conference Centre
SUMMARY:ELRIG Cell & Gene Therapy 2026
DESCRIPTION:Discover the breakthroughs shaping the future of medicine at this two-day event designed for scientists, innovators, and industry leaders.\n
 \n
 Event details: https://www.bioindustry.org/events/our-events/elrig-cell-gene-therapy-2026.html
PRIORITY:1
END:VEVENT
END:VCALENDAR