BEGIN:VCALENDAR
PRODID:-//Pixl8//Eventfolio//EN
VERSION:2.0
X-WR-TIMEZONE:Europe/London
CALSCALE:GREGORIAN
METHOD:PUBLISH
CLASS:PUBLIC
BEGIN:VTIMEZONE
TZID:Europe/London
LAST-MODIFIED:20260306T231828Z
TZURL:https://www.tzurl.org/zoneinfo-outlook/Europe/London
X-LIC-LOCATION:Europe/London
BEGIN:DAYLIGHT
TZNAME:BST
TZOFFSETFROM:+0000
TZOFFSETTO:+0100
DTSTART:19700329T010000
RRULE:FREQ=YEARLY;BYMONTH=3;BYDAY=-1SU
END:DAYLIGHT
BEGIN:STANDARD
TZNAME:GMT
TZOFFSETFROM:+0100
TZOFFSETTO:+0000
DTSTART:19701025T020000
RRULE:FREQ=YEARLY;BYMONTH=10;BYDAY=-1SU
END:STANDARD
END:VTIMEZONE
BEGIN:VEVENT
DTSTART;TZID=Europe/London:20260123T090000
DTEND;TZID=Europe/London:20260123T170000
DTSTAMP:20260419T190526Z
UID:{E2A64138-443F-444C-A18DAEB5E3B77256}
LOCATION:Glasgow
SUMMARY:Endometriosis hackathon - Glasgow
DESCRIPTION:Do you have an idea that could help reduce the diagnosis time for endometriosis from over seven years to one? \n
 \n
 We are looking for businesses with innovative concepts or ideas that have the potential to evolve into clinically credible, commercially viable and system-ready solutions for accelerating endometriosis diagnosis and treatment.  \n
 \n
 Event details: https://www.bioindustry.org/events/our-events/endometriosis-hackathon-glasgow.html
PRIORITY:1
END:VEVENT
END:VCALENDAR