BEGIN:VCALENDAR
PRODID:-//Pixl8//Eventfolio//EN
VERSION:2.0
X-WR-TIMEZONE:Europe/London
CALSCALE:GREGORIAN
METHOD:PUBLISH
CLASS:PUBLIC
BEGIN:VTIMEZONE
TZID:Europe/London
LAST-MODIFIED:20260306T231828Z
TZURL:https://www.tzurl.org/zoneinfo-outlook/Europe/London
X-LIC-LOCATION:Europe/London
BEGIN:DAYLIGHT
TZNAME:BST
TZOFFSETFROM:+0000
TZOFFSETTO:+0100
DTSTART:19700329T010000
RRULE:FREQ=YEARLY;BYMONTH=3;BYDAY=-1SU
END:DAYLIGHT
BEGIN:STANDARD
TZNAME:GMT
TZOFFSETFROM:+0100
TZOFFSETTO:+0000
DTSTART:19701025T020000
RRULE:FREQ=YEARLY;BYMONTH=10;BYDAY=-1SU
END:STANDARD
END:VTIMEZONE
BEGIN:VEVENT
DTSTART;TZID=Europe/London:20251104T120000
DTEND;TZID=Europe/London:20251104T123000
DTSTAMP:20260420T021906Z
UID:{E042425D-E9F4-4785-9C0A0AF88746ACB8}
LOCATION:
SUMMARY:From spreadsheets to strategy: Explore the Data Citizen Apprenticeship
DESCRIPTION:Upskill your existing employees with the Level 3 Data Citizen Apprenticeship!\n
 \n
 Event details: https://www.bioindustry.org/events/our-events/from-spreadsheets-to-strategy-explore-the-data-citizen-apprenticeship.html
PRIORITY:1
END:VEVENT
END:VCALENDAR