BEGIN:VCALENDAR
PRODID:-//Pixl8//Eventfolio//EN
VERSION:2.0
X-WR-TIMEZONE:Europe/London
CALSCALE:GREGORIAN
METHOD:PUBLISH
CLASS:PUBLIC
BEGIN:VTIMEZONE
TZID:Europe/London
LAST-MODIFIED:20260306T231828Z
TZURL:https://www.tzurl.org/zoneinfo-outlook/Europe/London
X-LIC-LOCATION:Europe/London
BEGIN:DAYLIGHT
TZNAME:BST
TZOFFSETFROM:+0000
TZOFFSETTO:+0100
DTSTART:19700329T010000
RRULE:FREQ=YEARLY;BYMONTH=3;BYDAY=-1SU
END:DAYLIGHT
BEGIN:STANDARD
TZNAME:GMT
TZOFFSETFROM:+0100
TZOFFSETTO:+0000
DTSTART:19701025T020000
RRULE:FREQ=YEARLY;BYMONTH=10;BYDAY=-1SU
END:STANDARD
END:VTIMEZONE
BEGIN:VEVENT
DTSTART;TZID=Europe/London:20260421T090000
DTEND;TZID=Europe/London:20260422T180000
DTSTAMP:20260425T162334Z
UID:{429A8B6D-588A-4EC3-939256CDB105D576}
LOCATION:Abroad / outside UK
SUMMARY:German Biotech Days 2026
DESCRIPTION:The German Biotech Days (DBT) bring together entrepreneurs with scientists and partners from politics, investors, funding institutions and administration.\n
 \n
 Event details: https://www.bioindustry.org/events/our-events/german-biotech-days-2026.html
PRIORITY:1
END:VEVENT
END:VCALENDAR