BEGIN:VCALENDAR
PRODID:-//Pixl8//Eventfolio//EN
VERSION:2.0
X-WR-TIMEZONE:Europe/London
CALSCALE:GREGORIAN
METHOD:PUBLISH
CLASS:PUBLIC
BEGIN:VTIMEZONE
TZID:Europe/London
LAST-MODIFIED:20260306T231828Z
TZURL:https://www.tzurl.org/zoneinfo-outlook/Europe/London
X-LIC-LOCATION:Europe/London
BEGIN:DAYLIGHT
TZNAME:BST
TZOFFSETFROM:+0000
TZOFFSETTO:+0100
DTSTART:19700329T010000
RRULE:FREQ=YEARLY;BYMONTH=3;BYDAY=-1SU
END:DAYLIGHT
BEGIN:STANDARD
TZNAME:GMT
TZOFFSETFROM:+0100
TZOFFSETTO:+0000
DTSTART:19701025T020000
RRULE:FREQ=YEARLY;BYMONTH=10;BYDAY=-1SU
END:STANDARD
END:VTIMEZONE
BEGIN:VEVENT
DTSTART;TZID=Europe/London:20241001T090000
DTEND;TZID=Europe/London:20241001T200000
DTSTAMP:20260422T180527Z
UID:{6E699CA3-433A-44B5-8B9668EDBEC915C1}
LOCATION:The Francis Crick Institute\, London
SUMMARY:Getting Cilia Moving: Industry Accelerator Event
DESCRIPTION:PCD Research, together with Weatherden and LifeArc are excited to launch the first Primary Ciliary Dyskinesia Industry Accelerator Event.\n
 \n
 Event details: https://www.bioindustry.org/events/our-events/getting-cilia-moving-industry-accelerator-event.html
PRIORITY:1
END:VEVENT
END:VCALENDAR