BEGIN:VCALENDAR
PRODID:-//Pixl8//Eventfolio//EN
VERSION:2.0
X-WR-TIMEZONE:Europe/London
CALSCALE:GREGORIAN
METHOD:PUBLISH
CLASS:PUBLIC
BEGIN:VTIMEZONE
TZID:Europe/London
LAST-MODIFIED:20260306T231828Z
TZURL:https://www.tzurl.org/zoneinfo-outlook/Europe/London
X-LIC-LOCATION:Europe/London
BEGIN:DAYLIGHT
TZNAME:BST
TZOFFSETFROM:+0000
TZOFFSETTO:+0100
DTSTART:19700329T010000
RRULE:FREQ=YEARLY;BYMONTH=3;BYDAY=-1SU
END:DAYLIGHT
BEGIN:STANDARD
TZNAME:GMT
TZOFFSETFROM:+0100
TZOFFSETTO:+0000
DTSTART:19701025T020000
RRULE:FREQ=YEARLY;BYMONTH=10;BYDAY=-1SU
END:STANDARD
END:VTIMEZONE
BEGIN:VEVENT
DTSTART;TZID=Europe/London:20260720T090000
DTEND;TZID=Europe/London:20260721T180000
DTSTAMP:20260422T062537Z
UID:{78A709DC-2B63-4A0F-8656EA00F929CFA8}
LOCATION:Oxford
SUMMARY:Global research conference on graphene and 2D materials
DESCRIPTION:The Global Research Conference on Graphene and 2D Materials (GRCG2DM 2026) will be held on July 20–21, 2026, in Paris, France, under the theme “Beyond Graphene: Exploring the Frontier of 2D Materials.\n
 \n
 Event details: https://www.bioindustry.org/events/our-events/global-research-conference-on-graphene-and-2d-materials.html
PRIORITY:1
END:VEVENT
END:VCALENDAR