BEGIN:VCALENDAR
PRODID:-//Pixl8//Eventfolio//EN
VERSION:2.0
X-WR-TIMEZONE:Europe/London
CALSCALE:GREGORIAN
METHOD:PUBLISH
CLASS:PUBLIC
BEGIN:VTIMEZONE
TZID:Europe/London
LAST-MODIFIED:20260306T231828Z
TZURL:https://www.tzurl.org/zoneinfo-outlook/Europe/London
X-LIC-LOCATION:Europe/London
BEGIN:DAYLIGHT
TZNAME:BST
TZOFFSETFROM:+0000
TZOFFSETTO:+0100
DTSTART:19700329T010000
RRULE:FREQ=YEARLY;BYMONTH=3;BYDAY=-1SU
END:DAYLIGHT
BEGIN:STANDARD
TZNAME:GMT
TZOFFSETFROM:+0100
TZOFFSETTO:+0000
DTSTART:19701025T020000
RRULE:FREQ=YEARLY;BYMONTH=10;BYDAY=-1SU
END:STANDARD
END:VTIMEZONE
BEGIN:VEVENT
DTSTART;TZID=Europe/London:20260623T091500
DTEND;TZID=Europe/London:20260624T170000
DTSTAMP:20260424T070459Z
UID:{2CE3A669-1C00-471D-A05C900E31C206B4}
LOCATION:Nexus\, University of Leeds\, Discovery Wy\, Woodhouse\, Leeds LS2 3AA
SUMMARY:Government Chemist Conference: 23-24 June 2026- registration open
DESCRIPTION:Hosted by Dr Julian Braybrook, UK Government Chemist, this upcoming conference brings together professionals from across the food sector to explore how measurement science can support a modern, responsive regulatory system capable of meeting today’s food system challenges.\n
 \n
 Event details: https://www.bioindustry.org/events/our-events/government-chemist-conference-23-24-june-2026-registration-open.html
PRIORITY:1
END:VEVENT
END:VCALENDAR