BEGIN:VCALENDAR
PRODID:-//Pixl8//Eventfolio//EN
VERSION:2.0
X-WR-TIMEZONE:Europe/London
CALSCALE:GREGORIAN
METHOD:PUBLISH
CLASS:PUBLIC
BEGIN:VTIMEZONE
TZID:Europe/London
LAST-MODIFIED:20260306T231828Z
TZURL:https://www.tzurl.org/zoneinfo-outlook/Europe/London
X-LIC-LOCATION:Europe/London
BEGIN:DAYLIGHT
TZNAME:BST
TZOFFSETFROM:+0000
TZOFFSETTO:+0100
DTSTART:19700329T010000
RRULE:FREQ=YEARLY;BYMONTH=3;BYDAY=-1SU
END:DAYLIGHT
BEGIN:STANDARD
TZNAME:GMT
TZOFFSETFROM:+0100
TZOFFSETTO:+0000
DTSTART:19701025T020000
RRULE:FREQ=YEARLY;BYMONTH=10;BYDAY=-1SU
END:STANDARD
END:VTIMEZONE
BEGIN:VEVENT
DTSTART;TZID=Europe/London:20250722T150000
DTEND;TZID=Europe/London:20250722T160000
DTSTAMP:20260419T161101Z
UID:{6596C984-0229-416D-9AC1E02D26565D2A}
LOCATION:
SUMMARY:Health Check: The Future of Healthcare M&A
DESCRIPTION:July 22 | 10:00 am EDT / 4:00 pm CEST\n
 \n
 Facing persistently high interest rates and a shifting regulatory landscape, healthcare and life sciences dealmakers are rethinking their approaches to inorganic growth.\n
 \n
 Event details: https://www.bioindustry.org/events/our-events/health-check-the-future-of-healthcare-ma.html
PRIORITY:1
END:VEVENT
END:VCALENDAR