BEGIN:VCALENDAR
PRODID:-//Pixl8//Eventfolio//EN
VERSION:2.0
X-WR-TIMEZONE:Europe/London
CALSCALE:GREGORIAN
METHOD:PUBLISH
CLASS:PUBLIC
BEGIN:VTIMEZONE
TZID:Europe/London
LAST-MODIFIED:20260306T231828Z
TZURL:https://www.tzurl.org/zoneinfo-outlook/Europe/London
X-LIC-LOCATION:Europe/London
BEGIN:DAYLIGHT
TZNAME:BST
TZOFFSETFROM:+0000
TZOFFSETTO:+0100
DTSTART:19700329T010000
RRULE:FREQ=YEARLY;BYMONTH=3;BYDAY=-1SU
END:DAYLIGHT
BEGIN:STANDARD
TZNAME:GMT
TZOFFSETFROM:+0100
TZOFFSETTO:+0000
DTSTART:19701025T020000
RRULE:FREQ=YEARLY;BYMONTH=10;BYDAY=-1SU
END:STANDARD
END:VTIMEZONE
BEGIN:VEVENT
DTSTART;TZID=Europe/London:20241203T120000
DTEND;TZID=Europe/London:20241203T160000
DTSTAMP:20260421T124005Z
UID:{A5F82727-D5C5-4E12-AFAB357EBE839331}
LOCATION:
SUMMARY:Health & Life Sciences Half Day 
DESCRIPTION:Join the Canada-UK Chamber of Commerce for our Annual Health & Life Sciences Half day event, taking place this year at Canada House in partnership with the High Commission of Canada and AxialBridge scheduled as an official One Nucleus Genesis Fringe event in London.\n
 \n
 Event details: https://www.bioindustry.org/events/our-events/health-life-sciences-half-day.html
PRIORITY:1
END:VEVENT
END:VCALENDAR