BEGIN:VCALENDAR
PRODID:-//Pixl8//Eventfolio//EN
VERSION:2.0
X-WR-TIMEZONE:Europe/London
CALSCALE:GREGORIAN
METHOD:PUBLISH
CLASS:PUBLIC
BEGIN:VTIMEZONE
TZID:Europe/London
LAST-MODIFIED:20260306T231828Z
TZURL:https://www.tzurl.org/zoneinfo-outlook/Europe/London
X-LIC-LOCATION:Europe/London
BEGIN:DAYLIGHT
TZNAME:BST
TZOFFSETFROM:+0000
TZOFFSETTO:+0100
DTSTART:19700329T010000
RRULE:FREQ=YEARLY;BYMONTH=3;BYDAY=-1SU
END:DAYLIGHT
BEGIN:STANDARD
TZNAME:GMT
TZOFFSETFROM:+0100
TZOFFSETTO:+0000
DTSTART:19701025T020000
RRULE:FREQ=YEARLY;BYMONTH=10;BYDAY=-1SU
END:STANDARD
END:VTIMEZONE
BEGIN:VEVENT
DTSTART;TZID=Europe/London:20250312T090000
DTEND;TZID=Europe/London:20250313T170000
DTSTAMP:20260422T180527Z
UID:{9EDA9FBE-8ED7-41A5-B44B4523F6D0791F}
LOCATION:Glasgow
SUMMARY:IBioIC’s 11th Annual Conference
DESCRIPTION:The Industrial Biotechnology Innovation Centre is holding its 11th Annual Conference in Glasgow in March 2025. \n
 \n
 The conference will once again bring together over 400 biobased industry professionals, researchers, policymakers, and supporting organisations to hear talks, case studies, panel sessions and fireside chats that will demystify the process of partnering for success and point the way to the ultimate goal of getting innovative, bio-based, products to market.\n
 \n
 Event details: https://www.bioindustry.org/events/our-events/ibioics-11th-annual-conference.html
PRIORITY:1
END:VEVENT
END:VCALENDAR