BEGIN:VCALENDAR
PRODID:-//Pixl8//Eventfolio//EN
VERSION:2.0
X-WR-TIMEZONE:Europe/London
CALSCALE:GREGORIAN
METHOD:PUBLISH
CLASS:PUBLIC
BEGIN:VTIMEZONE
TZID:Europe/London
LAST-MODIFIED:20260306T231828Z
TZURL:https://www.tzurl.org/zoneinfo-outlook/Europe/London
X-LIC-LOCATION:Europe/London
BEGIN:DAYLIGHT
TZNAME:BST
TZOFFSETFROM:+0000
TZOFFSETTO:+0100
DTSTART:19700329T010000
RRULE:FREQ=YEARLY;BYMONTH=3;BYDAY=-1SU
END:DAYLIGHT
BEGIN:STANDARD
TZNAME:GMT
TZOFFSETFROM:+0100
TZOFFSETTO:+0000
DTSTART:19701025T020000
RRULE:FREQ=YEARLY;BYMONTH=10;BYDAY=-1SU
END:STANDARD
END:VTIMEZONE
BEGIN:VEVENT
DTSTART;TZID=Europe/London:20250709T090000
DTEND;TZID=Europe/London:20250709T170000
DTSTAMP:20260422T063105Z
UID:{F4000245-BFFC-4DC7-99CD2F27E88ED5D5}
LOCATION:Imperial College London\, Exhibition Road\, SW7 2AZ
SUMMARY:Imperial Collider
DESCRIPTION:Discover the latest innovations and opportunities to put technology into action from research to real world with leading inventors and academics at Imperial College London.\n
 \n
 Event details: https://www.bioindustry.org/events/our-events/imperial-collider.html
PRIORITY:1
END:VEVENT
END:VCALENDAR