BEGIN:VCALENDAR
PRODID:-//Pixl8//Eventfolio//EN
VERSION:2.0
X-WR-TIMEZONE:Europe/London
CALSCALE:GREGORIAN
METHOD:PUBLISH
CLASS:PUBLIC
BEGIN:VTIMEZONE
TZID:Europe/London
LAST-MODIFIED:20260306T231828Z
TZURL:https://www.tzurl.org/zoneinfo-outlook/Europe/London
X-LIC-LOCATION:Europe/London
BEGIN:DAYLIGHT
TZNAME:BST
TZOFFSETFROM:+0000
TZOFFSETTO:+0100
DTSTART:19700329T010000
RRULE:FREQ=YEARLY;BYMONTH=3;BYDAY=-1SU
END:DAYLIGHT
BEGIN:STANDARD
TZNAME:GMT
TZOFFSETFROM:+0100
TZOFFSETTO:+0000
DTSTART:19701025T020000
RRULE:FREQ=YEARLY;BYMONTH=10;BYDAY=-1SU
END:STANDARD
END:VTIMEZONE
BEGIN:VEVENT
DTSTART;TZID=Europe/London:20251114T120000
DTEND;TZID=Europe/London:20251114T140000
DTSTAMP:20260422T063637Z
UID:{35D5A507-A8A7-4962-83BF46E00A80C77E}
LOCATION:QRC Consultants\, Silvaco Technology Centre\, Compass Point\, St. Ives\, Cambridgeshire\, PE27 5JL
SUMMARY:Institute of Clinical Research
DESCRIPTION:Come along for some focused discussion and networking on a Friday lunchtime - the discussion topic will be 'highlights of the new UK Clinical Trials Regulation', followed by a light lunch and opportunity to network.\n
 \n
 Event details: https://www.bioindustry.org/events/our-events/institute-of-clinical-research.html
PRIORITY:1
END:VEVENT
END:VCALENDAR