BEGIN:VCALENDAR
PRODID:-//Pixl8//Eventfolio//EN
VERSION:2.0
X-WR-TIMEZONE:Europe/London
CALSCALE:GREGORIAN
METHOD:PUBLISH
CLASS:PUBLIC
BEGIN:VTIMEZONE
TZID:Europe/London
LAST-MODIFIED:20260306T231828Z
TZURL:https://www.tzurl.org/zoneinfo-outlook/Europe/London
X-LIC-LOCATION:Europe/London
BEGIN:DAYLIGHT
TZNAME:BST
TZOFFSETFROM:+0000
TZOFFSETTO:+0100
DTSTART:19700329T010000
RRULE:FREQ=YEARLY;BYMONTH=3;BYDAY=-1SU
END:DAYLIGHT
BEGIN:STANDARD
TZNAME:GMT
TZOFFSETFROM:+0100
TZOFFSETTO:+0000
DTSTART:19701025T020000
RRULE:FREQ=YEARLY;BYMONTH=10;BYDAY=-1SU
END:STANDARD
END:VTIMEZONE
BEGIN:VEVENT
DTSTART;TZID=Europe/London:20260129T100000
DTEND;TZID=Europe/London:20260129T160000
DTSTAMP:20260425T162518Z
UID:{C8B3429A-8DE9-432D-99F4623D49F0E0B6}
LOCATION:Usher Institute\, University of Edinburgh\, 5‒7 Little France Road\, Edinburgh Bio Quarter ‒ Gate 3\, Ed
SUMMARY:Institute of Clinical Research - Learning and Networking Event - Edinburgh, UK
DESCRIPTION:Join the Institute of Clinical Research for this full-day event designed for clinical research and life science professionals across Scotland, Northern England, and beyond, where current developments in clinical research will be discussed and giving attendees a chance to network with like-minded colleagues.\n
 \n
 Event details: https://www.bioindustry.org/events/our-events/institute-of-clinical-research-learning-and-networking-event-edinburgh-uk.html
PRIORITY:1
END:VEVENT
END:VCALENDAR