BEGIN:VCALENDAR
PRODID:-//Pixl8//Eventfolio//EN
VERSION:2.0
X-WR-TIMEZONE:Europe/London
CALSCALE:GREGORIAN
METHOD:PUBLISH
CLASS:PUBLIC
BEGIN:VTIMEZONE
TZID:Europe/London
LAST-MODIFIED:20260306T231828Z
TZURL:https://www.tzurl.org/zoneinfo-outlook/Europe/London
X-LIC-LOCATION:Europe/London
BEGIN:DAYLIGHT
TZNAME:BST
TZOFFSETFROM:+0000
TZOFFSETTO:+0100
DTSTART:19700329T010000
RRULE:FREQ=YEARLY;BYMONTH=3;BYDAY=-1SU
END:DAYLIGHT
BEGIN:STANDARD
TZNAME:GMT
TZOFFSETFROM:+0100
TZOFFSETTO:+0000
DTSTART:19701025T020000
RRULE:FREQ=YEARLY;BYMONTH=10;BYDAY=-1SU
END:STANDARD
END:VTIMEZONE
BEGIN:VEVENT
DTSTART;TZID=Europe/London:20251117T090000
DTEND;TZID=Europe/London:20251117T180000
DTSTAMP:20260425T174712Z
UID:{C01DBC13-5CE5-44B3-B119D1B0E9C35F80}
LOCATION:London
SUMMARY:Investival Showcase 2025
DESCRIPTION:Investival Showcase is your Ultimate Biotech, Healthtech and Medtech Networking & Pitching Event in London.\n
 \n
 With 8 incredible presenting stages for startup, growth stage and publicly listed Biotech, Healthtech, Medtech, TechBio, Digital Health and Deeptech companies.\n
 \n
 Event details: https://www.bioindustry.org/events/our-events/investival-showcase-2025.html
PRIORITY:1
END:VEVENT
END:VCALENDAR