BEGIN:VCALENDAR
PRODID:-//Pixl8//Eventfolio//EN
VERSION:2.0
X-WR-TIMEZONE:Europe/London
CALSCALE:GREGORIAN
METHOD:PUBLISH
CLASS:PUBLIC
BEGIN:VTIMEZONE
TZID:Europe/London
LAST-MODIFIED:20260306T231828Z
TZURL:https://www.tzurl.org/zoneinfo-outlook/Europe/London
X-LIC-LOCATION:Europe/London
BEGIN:DAYLIGHT
TZNAME:BST
TZOFFSETFROM:+0000
TZOFFSETTO:+0100
DTSTART:19700329T010000
RRULE:FREQ=YEARLY;BYMONTH=3;BYDAY=-1SU
END:DAYLIGHT
BEGIN:STANDARD
TZNAME:GMT
TZOFFSETFROM:+0100
TZOFFSETTO:+0000
DTSTART:19701025T020000
RRULE:FREQ=YEARLY;BYMONTH=10;BYDAY=-1SU
END:STANDARD
END:VTIMEZONE
BEGIN:VEVENT
DTSTART;TZID=Europe/London:20250205T083000
DTEND;TZID=Europe/London:20250207T143000
DTSTAMP:20260419T160824Z
UID:{50B267EE-8BCA-4AE9-B6C90AD7AEAA1013}
LOCATION:Abroad / outside UK
SUMMARY:IPA World Congress + Probiota 2025
DESCRIPTION:Organised by NutraIngredients.com , the IPA World Congress + Probiota is the leading Microbiome conference globally and unites the realms of microbiome science and business.\n
 \n
 Event details: https://www.bioindustry.org/events/our-events/ipa-world-congress-probiota-2025.html
PRIORITY:1
END:VEVENT
END:VCALENDAR