BEGIN:VCALENDAR
PRODID:-//Pixl8//Eventfolio//EN
VERSION:2.0
X-WR-TIMEZONE:Europe/London
CALSCALE:GREGORIAN
METHOD:PUBLISH
CLASS:PUBLIC
BEGIN:VTIMEZONE
TZID:Europe/London
LAST-MODIFIED:20260306T231828Z
TZURL:https://www.tzurl.org/zoneinfo-outlook/Europe/London
X-LIC-LOCATION:Europe/London
BEGIN:DAYLIGHT
TZNAME:BST
TZOFFSETFROM:+0000
TZOFFSETTO:+0100
DTSTART:19700329T010000
RRULE:FREQ=YEARLY;BYMONTH=3;BYDAY=-1SU
END:DAYLIGHT
BEGIN:STANDARD
TZNAME:GMT
TZOFFSETFROM:+0100
TZOFFSETTO:+0000
DTSTART:19701025T020000
RRULE:FREQ=YEARLY;BYMONTH=10;BYDAY=-1SU
END:STANDARD
END:VTIMEZONE
BEGIN:VEVENT
DTSTART;TZID=Europe/London:20250813T123000
DTEND;TZID=Europe/London:20250813T133000
DTSTAMP:20260419T160704Z
UID:{1D05B6FB-E39B-4BB2-94CF3423F92FB5D6}
LOCATION:The Chambers Room\, Victoria House\, Bloomsbury Square\, London\, WC1B 4DA
SUMMARY:Lunch & Learn: Understanding and Preventing Burnout
DESCRIPTION:Join Warn & Co. for a one-hour Burnout Lunch & Learn session to understand what burnout is, how to spot it, and how to prevent it. Expect expert tips, interactive activities, and practical tools to help you protect your energy and support others.\n
 \n
 Event details: https://www.bioindustry.org/events/our-events/lunch-learn-understanding-and-preventing-burnout.html
PRIORITY:1
END:VEVENT
END:VCALENDAR