BEGIN:VCALENDAR
PRODID:-//Pixl8//Eventfolio//EN
VERSION:2.0
X-WR-TIMEZONE:Europe/London
CALSCALE:GREGORIAN
METHOD:PUBLISH
CLASS:PUBLIC
BEGIN:VTIMEZONE
TZID:Europe/London
LAST-MODIFIED:20260306T231828Z
TZURL:https://www.tzurl.org/zoneinfo-outlook/Europe/London
X-LIC-LOCATION:Europe/London
BEGIN:DAYLIGHT
TZNAME:BST
TZOFFSETFROM:+0000
TZOFFSETTO:+0100
DTSTART:19700329T010000
RRULE:FREQ=YEARLY;BYMONTH=3;BYDAY=-1SU
END:DAYLIGHT
BEGIN:STANDARD
TZNAME:GMT
TZOFFSETFROM:+0100
TZOFFSETTO:+0000
DTSTART:19701025T020000
RRULE:FREQ=YEARLY;BYMONTH=10;BYDAY=-1SU
END:STANDARD
END:VTIMEZONE
BEGIN:VEVENT
DTSTART;TZID=Europe/London:20250610T090000
DTEND;TZID=Europe/London:20250612T160000
DTSTAMP:20260419T173702Z
UID:{4BE72458-3114-491F-B8B17EBBF0874FAD}
LOCATION:FlexBio\, John Coulson Building\, Heriot-Watt University Edinburgh Campus\, Edinburgh\, EH14 4AS
SUMMARY:Mastering protein purification using chromatography techniques
DESCRIPTION:Take your skills to the next level with this 3-day intensive training course designed to provide both theoretical knowledge and hands-on experience in protein purification. You’ll learn essential chromatography techniques, including FPLC operation, column packing, purification strategies, and system maintenance, all through expert-led lectures and practical sessions. As part of the program, you'll also experience cutting-edge VR training supported by RESILIENCE, offering an innovative way to enhance your understanding of bioprocessing workflows. Limited spots available—secure yours today!\n
 \n
 Event details: https://www.bioindustry.org/events/our-events/mastering-protein-purification-using-chromatography-techniques.html
PRIORITY:1
END:VEVENT
END:VCALENDAR