BEGIN:VCALENDAR
PRODID:-//Pixl8//Eventfolio//EN
VERSION:2.0
X-WR-TIMEZONE:Europe/London
CALSCALE:GREGORIAN
METHOD:PUBLISH
CLASS:PUBLIC
BEGIN:VTIMEZONE
TZID:Europe/London
LAST-MODIFIED:20260306T231828Z
TZURL:https://www.tzurl.org/zoneinfo-outlook/Europe/London
X-LIC-LOCATION:Europe/London
BEGIN:DAYLIGHT
TZNAME:BST
TZOFFSETFROM:+0000
TZOFFSETTO:+0100
DTSTART:19700329T010000
RRULE:FREQ=YEARLY;BYMONTH=3;BYDAY=-1SU
END:DAYLIGHT
BEGIN:STANDARD
TZNAME:GMT
TZOFFSETFROM:+0100
TZOFFSETTO:+0000
DTSTART:19701025T020000
RRULE:FREQ=YEARLY;BYMONTH=10;BYDAY=-1SU
END:STANDARD
END:VTIMEZONE
BEGIN:VEVENT
DTSTART;TZID=Europe/London:20251112T090000
DTEND;TZID=Europe/London:20251114T180000
DTSTAMP:20260422T081741Z
UID:{AF1E7249-2B7E-4227-A58605348C468215}
LOCATION:Valletta
SUMMARY:MedTech Malta 2025
DESCRIPTION:MedTech Malta, returns in 2025 from November 12–14 at the historic Mediterranean Conference Centre in Valletta, Malta.\n
 \n
 Event details: https://www.bioindustry.org/events/our-events/medtech-malta-2025.html
PRIORITY:1
END:VEVENT
END:VCALENDAR