BEGIN:VCALENDAR
PRODID:-//Pixl8//Eventfolio//EN
VERSION:2.0
X-WR-TIMEZONE:Europe/London
CALSCALE:GREGORIAN
METHOD:PUBLISH
CLASS:PUBLIC
BEGIN:VTIMEZONE
TZID:Europe/London
LAST-MODIFIED:20260306T231828Z
TZURL:https://www.tzurl.org/zoneinfo-outlook/Europe/London
X-LIC-LOCATION:Europe/London
BEGIN:DAYLIGHT
TZNAME:BST
TZOFFSETFROM:+0000
TZOFFSETTO:+0100
DTSTART:19700329T010000
RRULE:FREQ=YEARLY;BYMONTH=3;BYDAY=-1SU
END:DAYLIGHT
BEGIN:STANDARD
TZNAME:GMT
TZOFFSETFROM:+0100
TZOFFSETTO:+0000
DTSTART:19701025T020000
RRULE:FREQ=YEARLY;BYMONTH=10;BYDAY=-1SU
END:STANDARD
END:VTIMEZONE
BEGIN:VEVENT
DTSTART;TZID=Europe/London:20260519T160000
DTEND;TZID=Europe/London:20260519T170000
DTSTAMP:20260421T131540Z
UID:{27E65E47-A923-42F7-8E2904534799F109}
LOCATION:Jeffrey Cheah Biomedical Centre\, Puddicombe Way\, Cambridge CB2 0AW
SUMMARY:Milner Seminars - Focus on RNA Therapeutics
DESCRIPTION:Milner Seminars are designed to facilitate interdisciplinary connections. Seminars include speakers from both academia and industry/biotech, each addressing a common theme, and are followed by networking over refreshments.\n
 \n
 Event details: https://www.bioindustry.org/events/our-events/milner-seminars-focus-on-rna-therapeutics.html
PRIORITY:1
END:VEVENT
END:VCALENDAR