BEGIN:VCALENDAR
PRODID:-//Pixl8//Eventfolio//EN
VERSION:2.0
X-WR-TIMEZONE:Europe/London
CALSCALE:GREGORIAN
METHOD:PUBLISH
CLASS:PUBLIC
BEGIN:VTIMEZONE
TZID:Europe/London
LAST-MODIFIED:20260306T231828Z
TZURL:https://www.tzurl.org/zoneinfo-outlook/Europe/London
X-LIC-LOCATION:Europe/London
BEGIN:DAYLIGHT
TZNAME:BST
TZOFFSETFROM:+0000
TZOFFSETTO:+0100
DTSTART:19700329T010000
RRULE:FREQ=YEARLY;BYMONTH=3;BYDAY=-1SU
END:DAYLIGHT
BEGIN:STANDARD
TZNAME:GMT
TZOFFSETFROM:+0100
TZOFFSETTO:+0000
DTSTART:19701025T020000
RRULE:FREQ=YEARLY;BYMONTH=10;BYDAY=-1SU
END:STANDARD
END:VTIMEZONE
BEGIN:VEVENT
DTSTART;TZID=Europe/London:20250918T100000
DTEND;TZID=Europe/London:20250918T110000
DTSTAMP:20260419T190115Z
UID:{F5B68C9E-1EFC-466A-A8405A0A6DA06A51}
LOCATION:
SUMMARY:Neurodegenerative functions of microglia in Alzheimer's Disease
DESCRIPTION:Creative Biolabs has invited Dr. Pinar Ayata to walk us through the neurodegenerative functions of microglia in AD.\n
 \n
 Event details: https://www.bioindustry.org/events/our-events/neurodegenerative-functions-of-microglia-in-alzheimer-s-disease.html
PRIORITY:1
END:VEVENT
END:VCALENDAR