BEGIN:VCALENDAR
PRODID:-//Pixl8//Eventfolio//EN
VERSION:2.0
X-WR-TIMEZONE:Europe/London
CALSCALE:GREGORIAN
METHOD:PUBLISH
CLASS:PUBLIC
BEGIN:VTIMEZONE
TZID:Europe/London
LAST-MODIFIED:20260306T231828Z
TZURL:https://www.tzurl.org/zoneinfo-outlook/Europe/London
X-LIC-LOCATION:Europe/London
BEGIN:DAYLIGHT
TZNAME:BST
TZOFFSETFROM:+0000
TZOFFSETTO:+0100
DTSTART:19700329T010000
RRULE:FREQ=YEARLY;BYMONTH=3;BYDAY=-1SU
END:DAYLIGHT
BEGIN:STANDARD
TZNAME:GMT
TZOFFSETFROM:+0100
TZOFFSETTO:+0000
DTSTART:19701025T020000
RRULE:FREQ=YEARLY;BYMONTH=10;BYDAY=-1SU
END:STANDARD
END:VTIMEZONE
BEGIN:VEVENT
DTSTART;TZID=Europe/London:20260623T090000
DTEND;TZID=Europe/London:20260623T163000
DTSTAMP:20260423T065601Z
UID:{0918732E-8A7B-4B62-A1B2FD5A8A830026}
LOCATION:University College London\, Malet Place\, WC1E 6BT
SUMMARY:Novel Technologies in Bioprocessing
DESCRIPTION:This one-day conference  highlights the latest innovations in bioprocessing. This meeting brings together the latest developments from both industry and academia with applications in multiple fields including biopharmaceuticals, foods, cosmetics or detergents. Topics covered include upstream & downstream processing, analytics and digitalisation.\n
 \n
 Event details: https://www.bioindustry.org/events/our-events/novel-technologies-in-bioprocessing.html
PRIORITY:1
END:VEVENT
END:VCALENDAR