BEGIN:VCALENDAR
PRODID:-//Pixl8//Eventfolio//EN
VERSION:2.0
X-WR-TIMEZONE:Europe/London
CALSCALE:GREGORIAN
METHOD:PUBLISH
CLASS:PUBLIC
BEGIN:VTIMEZONE
TZID:Europe/London
LAST-MODIFIED:20260306T231828Z
TZURL:https://www.tzurl.org/zoneinfo-outlook/Europe/London
X-LIC-LOCATION:Europe/London
BEGIN:DAYLIGHT
TZNAME:BST
TZOFFSETFROM:+0000
TZOFFSETTO:+0100
DTSTART:19700329T010000
RRULE:FREQ=YEARLY;BYMONTH=3;BYDAY=-1SU
END:DAYLIGHT
BEGIN:STANDARD
TZNAME:GMT
TZOFFSETFROM:+0100
TZOFFSETTO:+0000
DTSTART:19701025T020000
RRULE:FREQ=YEARLY;BYMONTH=10;BYDAY=-1SU
END:STANDARD
END:VTIMEZONE
BEGIN:VEVENT
DTSTART;TZID=Europe/London:20250703T083000
DTEND;TZID=Europe/London:20250703T183000
DTSTAMP:20260419T160902Z
UID:{954AF14B-6B41-455F-AE3A9082F6FE41BD}
LOCATION:Cambridge
SUMMARY:ON Helix 2025: New Horizons for Bio Innovation
DESCRIPTION:Our one-day conference addresses key bio innovation trends, from developments in life science and technology research to their translation into new diagnostics, prevention tools or treatments.\n
 \n
 Event details: https://www.bioindustry.org/events/our-events/on-helix-2025-new-horizons-for-bio-innovation.html
PRIORITY:1
END:VEVENT
END:VCALENDAR