BEGIN:VCALENDAR
PRODID:-//Pixl8//Eventfolio//EN
VERSION:2.0
X-WR-TIMEZONE:Europe/London
CALSCALE:GREGORIAN
METHOD:PUBLISH
CLASS:PUBLIC
BEGIN:VTIMEZONE
TZID:Europe/London
LAST-MODIFIED:20260306T231828Z
TZURL:https://www.tzurl.org/zoneinfo-outlook/Europe/London
X-LIC-LOCATION:Europe/London
BEGIN:DAYLIGHT
TZNAME:BST
TZOFFSETFROM:+0000
TZOFFSETTO:+0100
DTSTART:19700329T010000
RRULE:FREQ=YEARLY;BYMONTH=3;BYDAY=-1SU
END:DAYLIGHT
BEGIN:STANDARD
TZNAME:GMT
TZOFFSETFROM:+0100
TZOFFSETTO:+0000
DTSTART:19701025T020000
RRULE:FREQ=YEARLY;BYMONTH=10;BYDAY=-1SU
END:STANDARD
END:VTIMEZONE
BEGIN:VEVENT
DTSTART;TZID=Europe/London:20250604T104500
DTEND;TZID=Europe/London:20250604T180000
DTSTAMP:20260420T195344Z
UID:{19DCA980-F979-48FB-8A03841DECF6DFED}
LOCATION:Bristol
SUMMARY:Science Creates: Designed for Deep Tech
DESCRIPTION:𝗪𝗵𝗮𝘁 𝗱𝗼𝗲𝘀 𝗶𝘁 𝘁𝗮𝗸𝗲 𝘁𝗼 𝘀𝘁𝗮𝗿𝘁 𝗮𝗻𝗱 𝘀𝗰𝗮𝗹𝗲 𝗮 𝘀𝘂𝗰𝗰𝗲𝘀𝘀𝗳𝘂𝗹 𝗗𝗲𝗲𝗽 𝗧𝗲𝗰𝗵 𝘃𝗲𝗻𝘁𝘂𝗿𝗲?\n
 \n
 Event details: https://www.bioindustry.org/events/our-events/science-creates-designed-for-deep-tech.html
PRIORITY:1
END:VEVENT
END:VCALENDAR