BEGIN:VCALENDAR
PRODID:-//Pixl8//Eventfolio//EN
VERSION:2.0
X-WR-TIMEZONE:Europe/London
CALSCALE:GREGORIAN
METHOD:PUBLISH
CLASS:PUBLIC
BEGIN:VTIMEZONE
TZID:Europe/London
LAST-MODIFIED:20260306T231828Z
TZURL:https://www.tzurl.org/zoneinfo-outlook/Europe/London
X-LIC-LOCATION:Europe/London
BEGIN:DAYLIGHT
TZNAME:BST
TZOFFSETFROM:+0000
TZOFFSETTO:+0100
DTSTART:19700329T010000
RRULE:FREQ=YEARLY;BYMONTH=3;BYDAY=-1SU
END:DAYLIGHT
BEGIN:STANDARD
TZNAME:GMT
TZOFFSETFROM:+0100
TZOFFSETTO:+0000
DTSTART:19701025T020000
RRULE:FREQ=YEARLY;BYMONTH=10;BYDAY=-1SU
END:STANDARD
END:VTIMEZONE
BEGIN:VEVENT
DTSTART;TZID=Europe/London:20250723T093000
DTEND;TZID=Europe/London:20250723T130000
DTSTAMP:20260419T160653Z
UID:{7A2C6A37-4C27-4D54-BA3C323FF2E4A559}
LOCATION:Executive Rooms\, Technology and Innovation Centre\, G1 1RD
SUMMARY:Science Creates EngBio Roadshow: Glasgow
DESCRIPTION:🧬 Join the Glasgow leg of the UK-wide Engineering Biology Roadshow for free!\n
 \n
 Event details: https://www.bioindustry.org/events/our-events/science-creates-engbio-roadshow-glasgow.html
PRIORITY:1
END:VEVENT
END:VCALENDAR