BEGIN:VCALENDAR
PRODID:-//Pixl8//Eventfolio//EN
VERSION:2.0
X-WR-TIMEZONE:Europe/London
CALSCALE:GREGORIAN
METHOD:PUBLISH
CLASS:PUBLIC
BEGIN:VTIMEZONE
TZID:Europe/London
LAST-MODIFIED:20260306T231828Z
TZURL:https://www.tzurl.org/zoneinfo-outlook/Europe/London
X-LIC-LOCATION:Europe/London
BEGIN:DAYLIGHT
TZNAME:BST
TZOFFSETFROM:+0000
TZOFFSETTO:+0100
DTSTART:19700329T010000
RRULE:FREQ=YEARLY;BYMONTH=3;BYDAY=-1SU
END:DAYLIGHT
BEGIN:STANDARD
TZNAME:GMT
TZOFFSETFROM:+0100
TZOFFSETTO:+0000
DTSTART:19701025T020000
RRULE:FREQ=YEARLY;BYMONTH=10;BYDAY=-1SU
END:STANDARD
END:VTIMEZONE
BEGIN:VEVENT
DTSTART;TZID=Europe/London:20250722T130000
DTEND;TZID=Europe/London:20250722T163000
DTSTAMP:20260419T160716Z
UID:{F89F35F1-B0EE-498C-99AAE8F9C2EA2533}
LOCATION:The Stadium\, Scale Space White City\, W12 7RZ
SUMMARY:Science Creates EngBio Roadshow: London
DESCRIPTION:🧬 Join the London leg of the UK-wide Engineering Biology Roadshow for free!\n
 \n
 Event details: https://www.bioindustry.org/events/our-events/science-creates-engbio-roadshow-london.html
PRIORITY:1
END:VEVENT
END:VCALENDAR