BEGIN:VCALENDAR
PRODID:-//Pixl8//Eventfolio//EN
VERSION:2.0
X-WR-TIMEZONE:Europe/London
CALSCALE:GREGORIAN
METHOD:PUBLISH
CLASS:PUBLIC
BEGIN:VTIMEZONE
TZID:Europe/London
LAST-MODIFIED:20260306T231828Z
TZURL:https://www.tzurl.org/zoneinfo-outlook/Europe/London
X-LIC-LOCATION:Europe/London
BEGIN:DAYLIGHT
TZNAME:BST
TZOFFSETFROM:+0000
TZOFFSETTO:+0100
DTSTART:19700329T010000
RRULE:FREQ=YEARLY;BYMONTH=3;BYDAY=-1SU
END:DAYLIGHT
BEGIN:STANDARD
TZNAME:GMT
TZOFFSETFROM:+0100
TZOFFSETTO:+0000
DTSTART:19701025T020000
RRULE:FREQ=YEARLY;BYMONTH=10;BYDAY=-1SU
END:STANDARD
END:VTIMEZONE
BEGIN:VEVENT
DTSTART;TZID=Europe/London:20250715T133000
DTEND;TZID=Europe/London:20250715T170000
DTSTAMP:20260419T160704Z
UID:{E6FB9657-9D7D-4A7B-83419DD200FFE3A1}
LOCATION:UG55B\, Quadram Institute
SUMMARY:Science Creates EngBio Roadshow: Norwich 
DESCRIPTION:🧬 Join the Norwich leg of the UK-wide Engineering Biology Roadshow for free!\n
 \n
 Event details: https://www.bioindustry.org/events/our-events/science-creates-engbio-roadshow-norwich.html
PRIORITY:1
END:VEVENT
END:VCALENDAR