BEGIN:VCALENDAR
PRODID:-//Pixl8//Eventfolio//EN
VERSION:2.0
X-WR-TIMEZONE:Europe/London
CALSCALE:GREGORIAN
METHOD:PUBLISH
CLASS:PUBLIC
BEGIN:VTIMEZONE
TZID:Europe/London
LAST-MODIFIED:20260306T231828Z
TZURL:https://www.tzurl.org/zoneinfo-outlook/Europe/London
X-LIC-LOCATION:Europe/London
BEGIN:DAYLIGHT
TZNAME:BST
TZOFFSETFROM:+0000
TZOFFSETTO:+0100
DTSTART:19700329T010000
RRULE:FREQ=YEARLY;BYMONTH=3;BYDAY=-1SU
END:DAYLIGHT
BEGIN:STANDARD
TZNAME:GMT
TZOFFSETFROM:+0100
TZOFFSETTO:+0000
DTSTART:19701025T020000
RRULE:FREQ=YEARLY;BYMONTH=10;BYDAY=-1SU
END:STANDARD
END:VTIMEZONE
BEGIN:VEVENT
DTSTART;TZID=Europe/London:20241113T093000
DTEND;TZID=Europe/London:20241113T150000
DTSTAMP:20260419T231858Z
UID:{3CFEEA83-F4CD-482A-A7D85F78FB451814}
LOCATION:St Albans
SUMMARY:Sefia Platform Capability Day in Stevenage
DESCRIPTION:Don’t miss your chance to meet Cytiva's new Sefia Platform.\n
 \n
 Event details: https://www.bioindustry.org/events/our-events/sefia-platform-capability-day-in-stevenage.html
PRIORITY:1
END:VEVENT
END:VCALENDAR