BEGIN:VCALENDAR
PRODID:-//Pixl8//Eventfolio//EN
VERSION:2.0
X-WR-TIMEZONE:Europe/London
CALSCALE:GREGORIAN
METHOD:PUBLISH
CLASS:PUBLIC
BEGIN:VTIMEZONE
TZID:Europe/London
LAST-MODIFIED:20260306T231828Z
TZURL:https://www.tzurl.org/zoneinfo-outlook/Europe/London
X-LIC-LOCATION:Europe/London
BEGIN:DAYLIGHT
TZNAME:BST
TZOFFSETFROM:+0000
TZOFFSETTO:+0100
DTSTART:19700329T010000
RRULE:FREQ=YEARLY;BYMONTH=3;BYDAY=-1SU
END:DAYLIGHT
BEGIN:STANDARD
TZNAME:GMT
TZOFFSETFROM:+0100
TZOFFSETTO:+0000
DTSTART:19701025T020000
RRULE:FREQ=YEARLY;BYMONTH=10;BYDAY=-1SU
END:STANDARD
END:VTIMEZONE
BEGIN:VEVENT
DTSTART;TZID=Europe/London:20250930T100000
DTEND;TZID=Europe/London:20250930T183000
DTSTAMP:20260419T161035Z
UID:{10991150-C6EA-450A-B397988D1CFADB7E}
LOCATION:The Francis Crick Institute 1 Midland Road London NW1 1AT
SUMMARY:Sidley Healthcare Investment Conference 2025
DESCRIPTION:With deal and investment activity remaining critical to the success of the life sciences and healthcare industry, Sidley is bringing together senior pharma, biotech, healthcare, private equity, and venture capital leads to provide their insights on key topics, trends, and opportunities.\n
 \n
 Event details: https://www.bioindustry.org/events/our-events/sidley-healthcare-investment-conference-2025.html
PRIORITY:1
END:VEVENT
END:VCALENDAR