BEGIN:VCALENDAR
PRODID:-//Pixl8//Eventfolio//EN
VERSION:2.0
X-WR-TIMEZONE:Europe/London
CALSCALE:GREGORIAN
METHOD:PUBLISH
CLASS:PUBLIC
BEGIN:VTIMEZONE
TZID:Europe/London
LAST-MODIFIED:20260306T231828Z
TZURL:https://www.tzurl.org/zoneinfo-outlook/Europe/London
X-LIC-LOCATION:Europe/London
BEGIN:DAYLIGHT
TZNAME:BST
TZOFFSETFROM:+0000
TZOFFSETTO:+0100
DTSTART:19700329T010000
RRULE:FREQ=YEARLY;BYMONTH=3;BYDAY=-1SU
END:DAYLIGHT
BEGIN:STANDARD
TZNAME:GMT
TZOFFSETFROM:+0100
TZOFFSETTO:+0000
DTSTART:19701025T020000
RRULE:FREQ=YEARLY;BYMONTH=10;BYDAY=-1SU
END:STANDARD
END:VTIMEZONE
BEGIN:VEVENT
DTSTART;TZID=Europe/London:20260504T080000
DTEND;TZID=Europe/London:20260507T180000
DTSTAMP:20260422T065209Z
UID:{480CFF08-1A0E-4B19-9EADF79D267CD9BB}
LOCATION:150 West San Carlos Street San Jose\, CA 95113
SUMMARY:SynBioBeta 2026
DESCRIPTION:Global synthetic biology conference bringing together founders, investors, and scientists.\n
 \n
 Event details: https://www.bioindustry.org/events/our-events/synbiobeta-2026.html
PRIORITY:1
END:VEVENT
END:VCALENDAR