BEGIN:VCALENDAR
PRODID:-//Pixl8//Eventfolio//EN
VERSION:2.0
X-WR-TIMEZONE:Europe/London
CALSCALE:GREGORIAN
METHOD:PUBLISH
CLASS:PUBLIC
BEGIN:VTIMEZONE
TZID:Europe/London
LAST-MODIFIED:20260306T231828Z
TZURL:https://www.tzurl.org/zoneinfo-outlook/Europe/London
X-LIC-LOCATION:Europe/London
BEGIN:DAYLIGHT
TZNAME:BST
TZOFFSETFROM:+0000
TZOFFSETTO:+0100
DTSTART:19700329T010000
RRULE:FREQ=YEARLY;BYMONTH=3;BYDAY=-1SU
END:DAYLIGHT
BEGIN:STANDARD
TZNAME:GMT
TZOFFSETFROM:+0100
TZOFFSETTO:+0000
DTSTART:19701025T020000
RRULE:FREQ=YEARLY;BYMONTH=10;BYDAY=-1SU
END:STANDARD
END:VTIMEZONE
BEGIN:VEVENT
DTSTART;TZID=Europe/London:20250918T100000
DTEND;TZID=Europe/London:20250918T170000
DTSTAMP:20260419T220445Z
UID:{BFE4AC6D-0668-4503-A5C6223D95A3F9E2}
LOCATION:The Cambridge Building\, Babraham Research Campus\, Cambridge
SUMMARY:Workshop: Medical Device Software
DESCRIPTION:Are you developing a medical device or in vitro diagnostic that includes software? Not sure where to start or if you’re on the right track? \n
 \n
 Join Firefinch this September at our exclusive in-person workshop in Cambridge. \n
 \n
 Whether you're still in the ideas stage or already navigating regulation, this free interactive event is designed to help you avoid common mistakes, validate your roadmap, and strengthen your product strategy.\n
 \n
 We are pleased that regulatory compliance experts CS Lifesciences will be joining us at our workshops and are offering free 1:1 support as part of the event.\n
 \n
 Event details: https://www.bioindustry.org/events/our-events/workshop-medical-device-software-2.html
PRIORITY:1
END:VEVENT
END:VCALENDAR